BEGIN:VCALENDAR
VERSION:2.0
PRODID:-//NWGACIL - ECPv6.15.20//NONSGML v1.0//EN
CALSCALE:GREGORIAN
METHOD:PUBLISH
X-ORIGINAL-URL:https://nwga-cil.org
X-WR-CALDESC:Events for NWGACIL
REFRESH-INTERVAL;VALUE=DURATION:PT1H
X-Robots-Tag:noindex
X-PUBLISHED-TTL:PT1H
BEGIN:VTIMEZONE
TZID:UTC
BEGIN:STANDARD
TZOFFSETFROM:+0000
TZOFFSETTO:+0000
TZNAME:UTC
DTSTART:20250101T000000
END:STANDARD
END:VTIMEZONE
BEGIN:VEVENT
DTSTART;TZID=UTC:20260312T120000
DTEND;TZID=UTC:20260312T123000
DTSTAMP:20260423T150231
CREATED:20260306T191612Z
LAST-MODIFIED:20260306T193119Z
UID:6097-1773316800-1773318600@nwga-cil.org
SUMMARY:Braille/ JAWS Class
DESCRIPTION:Join Tonia Clayton as she teaches level 1 Braille and JAWS.
URL:https://nwga-cil.org/calendar/braille-class/
LOCATION:Rome-Floyd County Library\, 205 Riverside Pkwy NE\, Rome\, GA 30161\, Rome\, Georgia\, 30161\, United States
ORGANIZER;CN="Tonia Clayton":MAILTO:toniaclayton@nwgacil.org
END:VEVENT
BEGIN:VEVENT
DTSTART;TZID=UTC:20260324T140000
DTEND;TZID=UTC:20260324T150000
DTSTAMP:20260423T150231
CREATED:20260306T193426Z
LAST-MODIFIED:20260306T193430Z
UID:6106-1774360800-1774364400@nwga-cil.org
SUMMARY:New Prespective Nutrition and Wellness
DESCRIPTION:Join Angela Vicente as she goes over eating healthy on a Budget.
URL:https://nwga-cil.org/calendar/new-prespective-nutrition-and-wellness/
LOCATION:The Highrise\, 807 Ave B\, Rome\, 30165
ORGANIZER;CN="Angela Vicente":MAILTO:avicente@nwgacil.org
END:VEVENT
BEGIN:VEVENT
DTSTART;TZID=UTC:20260325T103000
DTEND;TZID=UTC:20260325T111500
DTSTAMP:20260423T150231
CREATED:20260306T194909Z
LAST-MODIFIED:20260318T145052Z
UID:6109-1774434600-1774437300@nwga-cil.org
SUMMARY:Bartow County Spotlight
DESCRIPTION:Join NWGA Center for Independent Living today for our Bartow County Spotlight—an open conversation about Housing\, Transportation\, Emergency Preparedness\, and Community Access in your community.
URL:https://nwga-cil.org/calendar/bartow-county-spotlight/
ORGANIZER;CN="Angela Vicente":MAILTO:avicente@nwgacil.org
END:VEVENT
BEGIN:VEVENT
DTSTART;TZID=UTC:20260325T130000
DTEND;TZID=UTC:20260325T140000
DTSTAMP:20260423T150231
CREATED:20260306T195420Z
LAST-MODIFIED:20260306T195423Z
UID:6113-1774443600-1774447200@nwga-cil.org
SUMMARY:Pickens County Spotlight
DESCRIPTION:Join NWGA Center for Independent Living today for our Pickens County Spotlight—an open conversation about Housing\, Transportation\, Emergency Preparedness\, and Community Access in your community.
URL:https://nwga-cil.org/calendar/pickens-county-spotlight/
ORGANIZER;CN="Emily Smith":MAILTO:esmith@nwgacil.org
END:VEVENT
END:VCALENDAR